BEGIN:VCALENDAR
VERSION:2.0
PRODID:-//Hidden Hill Family Campground - ECPv6.15.20//NONSGML v1.0//EN
CALSCALE:GREGORIAN
METHOD:PUBLISH
X-WR-CALNAME:Hidden Hill Family Campground
X-ORIGINAL-URL:https://www.hiddenhillcampground.com
X-WR-CALDESC:Events for Hidden Hill Family Campground
REFRESH-INTERVAL;VALUE=DURATION:PT1H
X-Robots-Tag:noindex
X-PUBLISHED-TTL:PT1H
BEGIN:VTIMEZONE
TZID:America/New_York
BEGIN:DAYLIGHT
TZOFFSETFROM:-0500
TZOFFSETTO:-0400
TZNAME:EDT
DTSTART:20250309T070000
END:DAYLIGHT
BEGIN:STANDARD
TZOFFSETFROM:-0400
TZOFFSETTO:-0500
TZNAME:EST
DTSTART:20251102T060000
END:STANDARD
BEGIN:DAYLIGHT
TZOFFSETFROM:-0500
TZOFFSETTO:-0400
TZNAME:EDT
DTSTART:20260308T070000
END:DAYLIGHT
BEGIN:STANDARD
TZOFFSETFROM:-0400
TZOFFSETTO:-0500
TZNAME:EST
DTSTART:20261101T060000
END:STANDARD
BEGIN:DAYLIGHT
TZOFFSETFROM:-0500
TZOFFSETTO:-0400
TZNAME:EDT
DTSTART:20270314T070000
END:DAYLIGHT
BEGIN:STANDARD
TZOFFSETFROM:-0400
TZOFFSETTO:-0500
TZNAME:EST
DTSTART:20271107T060000
END:STANDARD
END:VTIMEZONE
BEGIN:VEVENT
DTSTART;TZID=America/New_York:20260925T080000
DTEND;TZID=America/New_York:20260927T170000
DTSTAMP:20260421T052105
CREATED:20260127T123259Z
LAST-MODIFIED:20260225T104222Z
UID:20022-1790323200-1790528400@www.hiddenhillcampground.com
SUMMARY:Halloween Weekend #1
DESCRIPTION:Site Trick-or-Treating\nCostume Contests\nHaunted Trail
URL:https://www.hiddenhillcampground.com/event/halloween-weekend/
LOCATION:Hidden Hill Family Campground\, 300 N Clare Ave\, Harrison\, Michigan\, 48625
CATEGORIES:Donuts and Coffee
ATTACH;FMTTYPE=image/jpeg:https://www.hiddenhillcampground.com/wp-content/uploads/2026/01/Halloween-Pics-1-1-1-scaled.jpg
ORGANIZER;CN="Dave & Reva Basinger":MAILTO:manager@hiddenhillcampground.com
END:VEVENT
END:VCALENDAR